BEGIN:VCALENDAR
VERSION:2.0
PRODID:spatie/icalendar-generator
DESCRIPTION:Veranstaltungen von Gemeinde Dalberg-Wendelstorf
X-WR-CALDESC:Veranstaltungen von Gemeinde Dalberg-Wendelstorf
REFRESH-INTERVAL;VALUE=DURATION:PT1440M
X-PUBLISHED-TTL:PT1440M
BEGIN:VTIMEZONE
TZID:Europe/Berlin
BEGIN:STANDARD
DTSTART:20251026T030000Z
TZOFFSETFROM:+0200
TZOFFSETTO:+0100
END:STANDARD
BEGIN:DAYLIGHT
DTSTART:20260329T020000Z
TZOFFSETFROM:+0100
TZOFFSETTO:+0200
END:DAYLIGHT
BEGIN:STANDARD
DTSTART:20261025T030000Z
TZOFFSETFROM:+0200
TZOFFSETTO:+0100
END:STANDARD
END:VTIMEZONE
BEGIN:VTIMEZONE
TZID:UTC
BEGIN:STANDARD
DTSTART:20250725T143550Z
TZOFFSETFROM:+0000
TZOFFSETTO:+0000
END:STANDARD
END:VTIMEZONE
BEGIN:VEVENT
UID:22-20
DTSTAMP:20260421T143550Z
SUMMARY:Rentnersport
LOCATION:Mehrzweckgebäude / Sportlerheim Hauptstraße 24  Dalberg-Wendelst
 orf  19071
ORGANIZER;CN=simongrutschus:MAILTO:sgrutschus@gmail.com
RRULE:FREQ=WEEKLY;UNTIL=20261231T000000Z
DTSTART;TZID=Europe/Berlin:20260427T100000
DTEND;TZID=Europe/Berlin:20260427T110000
X-ALT-DESC;FMTTYPE=TEXT/HTML:Wöchentlich Montags im Sportlerheim: Rentersp
 ort um 10:00 Uhr.
CATEGORIES:Regelmäßiger Termin
URL;VALUE=URI:https://dalberg-wendelstorf.de/mc-events/rentnersport/?mc_id=
 22
METHOD:PUBLISH
END:VEVENT
END:VCALENDAR