BEGIN:VCALENDAR
VERSION:2.0
PRODID:spatie/icalendar-generator
DESCRIPTION:Veranstaltungen von Gemeinde Dalberg-Wendelstorf
X-WR-CALDESC:Veranstaltungen von Gemeinde Dalberg-Wendelstorf
REFRESH-INTERVAL;VALUE=DURATION:PT1440M
X-PUBLISHED-TTL:PT1440M
BEGIN:VTIMEZONE
TZID:Europe/Berlin
BEGIN:DAYLIGHT
DTSTART:20260329T020000Z
TZOFFSETFROM:+0100
TZOFFSETTO:+0200
END:DAYLIGHT
BEGIN:STANDARD
DTSTART:20261025T030000Z
TZOFFSETFROM:+0200
TZOFFSETTO:+0100
END:STANDARD
END:VTIMEZONE
BEGIN:VTIMEZONE
TZID:UTC
BEGIN:STANDARD
DTSTART:20250725T142321Z
TZOFFSETFROM:+0000
TZOFFSETTO:+0000
END:STANDARD
END:VTIMEZONE
BEGIN:VEVENT
UID:313-28
DTSTAMP:20260421T142321Z
SUMMARY:Fröhliche Dalberger
LOCATION:Mehrzweckgebäude / Sportlerheim Hauptstraße 24  Dalberg-Wendelst
 orf  19071
ORGANIZER;CN=simongrutschus:MAILTO:sgrutschus@gmail.com
RRULE:FREQ=MONTHLY;BYDAY=2WE;INTERVAL=2;UNTIL=20270414T000000Z
DTSTART;TZID=Europe/Berlin:20260909T140000
DTEND;TZID=Europe/Berlin:20260909T180000
X-ALT-DESC;FMTTYPE=TEXT/HTML:Fröhliche Dalberger am 2. und 3. Mittwoch (Se
 ptember bis April). 14:00 bis 18:00 Uhr im Sportlerheim.
CATEGORIES:Regelmäßiger Termin
URL;VALUE=URI:https://dalberg-wendelstorf.de/mc-events/froehliche-dalberger
 /?mc_id=313
METHOD:PUBLISH
END:VEVENT
END:VCALENDAR